BEGIN:VCALENDAR
VERSION:2.0
PRODID:Imitheme.com 
BEGIN:VEVENT
UID:20260421T162938920494350
DTSTAMP;TZID=UTC:20260421T162938
DTSTART;TZID=UTC:20260620T112100
DTEND;TZID=UTC:20260620T112100
SUMMARY:Gudstjeneste <br> Prædikant\: Carsten Skovgaard-Holm
LOCATION:
DESCRIPTION:Prædikant\: Carsten Skovgaard-Holm streaming\: <a href=\"https\://www.youtube.com/watch?v=M7Hyxfr2vCE\">https\://www.youtube.com/watch?v=M7Hyxfr2vCE</a>
END:VEVENT
END:VCALENDAR
