BEGIN:VCALENDAR
VERSION:2.0
PRODID:Imitheme.com 
BEGIN:VEVENT
UID:20260425T0300121685860560
DTSTAMP;TZID=UTC:20260425T030012
DTSTART;TZID=UTC:20260714T112400
DTEND;TZID=UTC:20260714T112400
SUMMARY:Gudstjeneste <br> Prædikant\: Kristian Mogensen
LOCATION:
DESCRIPTION:Gudstjeneste Prædikant\: Kristian Mogensen
END:VEVENT
END:VCALENDAR
