BEGIN:VCALENDAR
VERSION:2.0
PRODID:Imitheme.com
BEGIN:VEVENT
UID:20260425T181736-1016225342
DTSTAMP:20260425T181736
DTSTART:20210926T000000Z
DTEND:20210926T000000Z
SUMMARY:Gudstjeneste <br> Prædikant: Jakob Olsen
LOCATION:
DESCRIPTION: Prædikant: Jakob Olsen
END:VEVENT
END:VCALENDAR
