BEGIN:VCALENDAR
VERSION:2.0
PRODID:Imitheme.com
BEGIN:VEVENT
UID:20260420T084942-2054721240
DTSTAMP:20260420T084942
DTSTART:20250817T000000Z
DTEND:20250817T000000Z
SUMMARY:Vidnegudstjeneste
LOCATION:
DESCRIPTION: Vidnegudstjeneste
END:VEVENT
END:VCALENDAR
