BEGIN:VCALENDAR
VERSION:2.0
PRODID:Imitheme.com
BEGIN:VEVENT
UID:20260425T153910-1496947311
DTSTAMP:20260425T153910
DTSTART:20260609T112400Z
DTEND:20260609T112400Z
SUMMARY:Gudstjeneste <br> Prædikant: Simon Bastrup Madsen
LOCATION:
DESCRIPTION: Gudstjeneste

Prædikant: Simon Bastrup Madsen
END:VEVENT
END:VCALENDAR
